BEGIN:VCALENDAR
BEGIN:VEVENT
SUMMARY:Elternsprechtage
DTSTART;VALUE=DATE:20251103
DTEND;VALUE=DATE:20251107
UID:events-event_1762610668_7178812.html
ORGANIZER:mailto:poststelle@g.simmersbach.schulverwaltung.hessen.de
END:VEVENT
BEGIN:VEVENT
SUMMARY:Kulturscheune Herborn
DTSTART;VALUE=DATE:20251208
DTEND;VALUE=DATE:20251208
UID:events-event_1762610746_8473074.html
ORGANIZER:mailto:poststelle@g.simmersbach.schulverwaltung.hessen.de
END:VEVENT
BEGIN:VEVENT
SUMMARY:Ferienbeginn - 3 Stunden
DTSTART;VALUE=DATE:20251219
DTEND;VALUE=DATE:20251219
UID:events-event_1762610794_3224783.html
ORGANIZER:mailto:poststelle@g.simmersbach.schulverwaltung.hessen.de
END:VEVENT
BEGIN:VEVENT
SUMMARY:Elternsprechtage Klasse 4
DTSTART;VALUE=DATE:20260202
DTEND;VALUE=DATE:20260206
UID:events-event_1768218950_582336.html
ORGANIZER:mailto:poststelle@g.simmersbach.schulverwaltung.hessen.de
END:VEVENT
BEGIN:VEVENT
SUMMARY:Elternsprechtage Klassen 1-3
DTSTART;VALUE=DATE:20260302
DTEND;VALUE=DATE:20260306
UID:events-event_1768219021_7584608.html
ORGANIZER:mailto:poststelle@g.simmersbach.schulverwaltung.hessen.de
END:VEVENT
BEGIN:VEVENT
SUMMARY:Schulkino Kl.1+2
DTSTART;VALUE=DATE:20260311
DTEND;VALUE=DATE:20260311
UID:events-event_1770711502_808384.html
ORGANIZER:mailto:poststelle@g.simmersbach.schulverwaltung.hessen.de
END:VEVENT
BEGIN:VEVENT
SUMMARY:Schulkino Kl.3+4
DTSTART;VALUE=DATE:20260312
DTEND;VALUE=DATE:20260312
UID:events-event_1770711532_071481.html
ORGANIZER:mailto:poststelle@g.simmersbach.schulverwaltung.hessen.de
END:VEVENT
BEGIN:VEVENT
SUMMARY:Bundesjugendspiele
DTSTART;VALUE=DATE:20260430
DTEND;VALUE=DATE:20260430
UID:events-event_1768218893_6353788.html
ORGANIZER:mailto:poststelle@g.simmersbach.schulverwaltung.hessen.de
END:VEVENT
BEGIN:VEVENT
SUMMARY:Schuljahresabschlussfest Hirzenhain
DTSTART;VALUE=DATE:20260619
DTEND;VALUE=DATE:20260619
UID:events-event_1768218867_6212337.html
ORGANIZER:mailto:poststelle@g.simmersbach.schulverwaltung.hessen.de
END:VEVENT
END:VCALENDAR
